<?xml version="1.0" encoding="UTF-8" standalone="no"?>
<metadata xml:lang="en">
<Esri>
<CreaDate>20230322</CreaDate>
<CreaTime>09104000</CreaTime>
<ArcGISFormat>1.0</ArcGISFormat>
<SyncOnce>FALSE</SyncOnce>
<DataProperties>
<itemProps>
<itemName Sync="TRUE">Renton_DEM2021</itemName>
<imsContentType Sync="TRUE">002</imsContentType>
<nativeExtBox>
<westBL Sync="TRUE">1282500.000000</westBL>
<eastBL Sync="TRUE">1336500.000000</eastBL>
<southBL Sync="TRUE">148500.000000</southBL>
<northBL Sync="TRUE">202500.000000</northBL>
<exTypeCode Sync="TRUE">1</exTypeCode>
</nativeExtBox>
</itemProps>
<coordRef>
<type Sync="TRUE">Projected</type>
<geogcsn Sync="TRUE">GCS_NAD_1983_2011</geogcsn>
<csUnits Sync="TRUE">Linear Unit: US survey foot (0.304801)</csUnits>
<projcsn Sync="TRUE">NAD83(2011) / Washington North (ftUS)</projcsn>
<peXml Sync="TRUE">&lt;ProjectedCoordinateSystem xsi:type='typens:ProjectedCoordinateSystem' xmlns:xsi='http://www.w3.org/2001/XMLSchema-instance' xmlns:xs='http://www.w3.org/2001/XMLSchema' xmlns:typens='http://www.esri.com/schemas/ArcGIS/10.8'&gt;&lt;WKT&gt;PROJCS[&amp;quot;NAD83(2011) / Washington North (ftUS)&amp;quot;,GEOGCS[&amp;quot;NAD83(2011)&amp;quot;,DATUM[&amp;quot;NAD83 (National Spatial Reference System 2011)&amp;quot;,SPHEROID[&amp;quot;GRS 1980&amp;quot;,6378137.0,298.257222101]],PRIMEM[&amp;quot;Greenwich&amp;quot;,0.0],UNIT[&amp;quot;degree&amp;quot;,0.0174532925199433]],PROJECTION[&amp;quot;Lambert_Conformal_Conic_2SP&amp;quot;],PARAMETER[&amp;quot;false_easting&amp;quot;,1640416.667],PARAMETER[&amp;quot;false_northing&amp;quot;,0.0],PARAMETER[&amp;quot;central_meridian&amp;quot;,-120.8333333333333],PARAMETER[&amp;quot;standard_parallel_1&amp;quot;,47.5],PARAMETER[&amp;quot;standard_parallel_2&amp;quot;,48.73333333333333],PARAMETER[&amp;quot;latitude_of_origin&amp;quot;,47.0],UNIT[&amp;quot;US survey foot&amp;quot;,0.3048006096012192]],VERTCS[&amp;quot;NAVD88 height (ftUS) - Geoid18 (ftUS)&amp;quot;,VDATUM[&amp;quot;North American Vertical Datum 1988&amp;quot;],PARAMETER[&amp;quot;Vertical_Shift&amp;quot;,0.0],PARAMETER[&amp;quot;Direction&amp;quot;,1.0],UNIT[&amp;quot;US survey foot&amp;quot;,0.3048006096012192]]&lt;/WKT&gt;&lt;XOrigin&gt;-117104300&lt;/XOrigin&gt;&lt;YOrigin&gt;-99539600&lt;/YOrigin&gt;&lt;XYScale&gt;37926742.22403606&lt;/XYScale&gt;&lt;ZOrigin&gt;-100000&lt;/ZOrigin&gt;&lt;ZScale&gt;3048.0060960121918&lt;/ZScale&gt;&lt;MOrigin&gt;-100000&lt;/MOrigin&gt;&lt;MScale&gt;10000&lt;/MScale&gt;&lt;XYTolerance&gt;0.0032808333333333335&lt;/XYTolerance&gt;&lt;ZTolerance&gt;0.0032808333333333331&lt;/ZTolerance&gt;&lt;MTolerance&gt;0.001&lt;/MTolerance&gt;&lt;HighPrecision&gt;true&lt;/HighPrecision&gt;&lt;/ProjectedCoordinateSystem&gt;</peXml>
</coordRef>
</DataProperties>
<SyncDate>20230404</SyncDate>
<SyncTime>14425600</SyncTime>
<ModDate>20230404</ModDate>
<ModTime>14425600</ModTime>
</Esri>
<dataIdInfo>
<envirDesc Sync="TRUE"> Version 6.2 (Build 9200) ; Esri ArcGIS 10.8.1.14362</envirDesc>
<dataLang>
<languageCode Sync="TRUE" value="eng">
</languageCode>
<countryCode Sync="TRUE" value="USA">
</countryCode>
</dataLang>
<idCitation>
<resTitle Sync="TRUE">Renton_DEM2021</resTitle>
<presForm>
<PresFormCd Sync="TRUE" value="011">
</PresFormCd>
</presForm>
</idCitation>
<spatRpType>
<SpatRepTypCd Sync="TRUE" value="002">
</SpatRepTypCd>
</spatRpType>
<dataExt>
<geoEle>
<GeoBndBox esriExtentType="search">
<exTypeCode Sync="TRUE">1</exTypeCode>
<westBL Sync="TRUE">-122.282638</westBL>
<eastBL Sync="TRUE">-122.060531</eastBL>
<northBL Sync="TRUE">47.548482</northBL>
<southBL Sync="TRUE">47.397890</southBL>
</GeoBndBox>
</geoEle>
</dataExt>
<idAbs>The bare earth digital elevation model (DEM) represents the earth's surface with all vegetation and human-made structures removed. It is derived from NIR LiDAR data using TIN processing of the ground point returns. Some elevation values have been interpolated across areas in the ground model where there is no elevation data (e.g. over water, under dense vegetation). Data was processed in reference to NAD83 (CORS96), however the horizontal datum for this dataset is defined as NAD83 (HARN) as the difference is generally small and allows for greater ease of use with data in different datums. The vertical datum is NAVD88, Geoid 03, and the data is projected in Washington State Plane North. Units are in US Survey Feet. Quantum Spatial collected the PSLC King County Delivery 1 LiDAR data for the Puget Sound LiDAR Consortium in 2021.</idAbs>
<searchKeys>
<keyword>Renton</keyword>
<keyword>DEM</keyword>
</searchKeys>
<idPurp>Provide high resolution terrain elevation data from the PSLC King County Delivery 1 LiDAR dataset.</idPurp>
<idCredit>Puget Sound LiDAR Consortium</idCredit>
<resConst>
<Consts>
<useLimit>In some areas of heavy vegetation or forest cover, there may be relatively few ground points in the LiDAR data. TINing the points produces large triangles and hence the elevations may be less accurate within such areas. Elevation values for open water surfaces should be considered approximate due to the increase of laser noise seen over water, frequent lack of returns, and the overall dynamic nature of water.</useLimit>
</Consts>
</resConst>
</dataIdInfo>
<mdLang>
<languageCode Sync="TRUE" value="eng">
</languageCode>
<countryCode Sync="TRUE" value="USA">
</countryCode>
</mdLang>
<distInfo>
<distFormat>
<formatName Sync="TRUE">File Geodatabase Raster Dataset</formatName>
</distFormat>
</distInfo>
<mdHrLv>
<ScopeCd Sync="TRUE" value="005">
</ScopeCd>
</mdHrLv>
<mdHrLvName Sync="TRUE">dataset</mdHrLvName>
<refSysInfo>
<RefSystem>
<refSysID>
<identCode Sync="TRUE" code="0">
</identCode>
</refSysID>
</RefSystem>
</refSysInfo>
<spdoinfo>
<rastinfo>
<rasttype Sync="TRUE">Pixel</rasttype>
<rowcount Sync="TRUE">108000</rowcount>
<colcount Sync="TRUE">108000</colcount>
<rastxsz Sync="TRUE">0.500000</rastxsz>
<rastysz Sync="TRUE">0.500000</rastysz>
<rastbpp Sync="TRUE">32</rastbpp>
<vrtcount Sync="TRUE">1</vrtcount>
<rastorig Sync="TRUE">Upper Left</rastorig>
<rastcmap Sync="TRUE">FALSE</rastcmap>
<rastcomp Sync="TRUE">LZ77</rastcomp>
<rastband Sync="TRUE">1</rastband>
<rastdtyp Sync="TRUE">pixel codes</rastdtyp>
<rastifor Sync="TRUE">FGDBR</rastifor>
<rastplyr Sync="TRUE">TRUE</rastplyr>
</rastinfo>
</spdoinfo>
<spref>
<horizsys>
<planar>
<planci>
<plance Sync="TRUE">row and column</plance>
<coordrep>
<absres Sync="TRUE">0.500000</absres>
<ordres Sync="TRUE">0.500000</ordres>
</coordrep>
</planci>
</planar>
</horizsys>
</spref>
<mdDateSt Sync="TRUE">20230404</mdDateSt>
</metadata>
